BEGIN:VCALENDAR
VERSION:2.0
PRODID:-//Antre İstanbul - ECPv6.15.17.1//NONSGML v1.0//EN
CALSCALE:GREGORIAN
METHOD:PUBLISH
X-WR-CALNAME:Antre İstanbul
X-ORIGINAL-URL:https://antre.istanbul
X-WR-CALDESC:Antre İstanbul için etkinlikler
REFRESH-INTERVAL;VALUE=DURATION:PT1H
X-Robots-Tag:noindex
X-PUBLISHED-TTL:PT1H
BEGIN:VTIMEZONE
TZID:Europe/Moscow
BEGIN:STANDARD
TZOFFSETFROM:+0300
TZOFFSETTO:+0300
TZNAME:MSK
DTSTART:20240101T000000
END:STANDARD
END:VTIMEZONE
BEGIN:VEVENT
DTSTART;TZID=Europe/Moscow:20251214T160000
DTEND;TZID=Europe/Moscow:20251214T180000
DTSTAMP:20260421T231205
CREATED:20251201T101239Z
LAST-MODIFIED:20251214T070248Z
UID:11714-1765728000-1765735200@antre.istanbul
SUMMARY:2026 Vision Board - Yeni Yılda Benim Girişimim
DESCRIPTION:2026’nın kişisel yol haritasını oluşturduğumuz yönlendirmeli bir workshop. Yıl boyunca odaklanmak istediğiniz temaları belirliyor\, bunları görsel bir panoya dönüştürüyorsun. \nİçerik:– Vision board yöntemleri– Tematik hedef belirleme– Kendi panonuzu oluşturma
URL:https://antre.istanbul/event/2026-vision-board-yeni-yilda-benim-girisimim/
LOCATION:antre.istanbul\, Cihangir\, Kazancı Yokuşu 34A\, Beyoğlu\, Istanbul\, 34433\, Turkey
CATEGORIES:Workshop
ATTACH;FMTTYPE=image/jpeg:https://antre.istanbul/wp-content/uploads/2025/12/Etkinlik-Postlari-05-e1765196169688.jpg
ORGANIZER;CN="antre.istanbul":MAILTO:antre@odacreativeistanbul.com
END:VEVENT
END:VCALENDAR