BEGIN:VCALENDAR
VERSION:2.0
PRODID:-//Antre İstanbul - ECPv6.15.17.1//NONSGML v1.0//EN
CALSCALE:GREGORIAN
METHOD:PUBLISH
X-WR-CALNAME:Antre İstanbul
X-ORIGINAL-URL:https://antre.istanbul
X-WR-CALDESC:Antre İstanbul için etkinlikler
REFRESH-INTERVAL;VALUE=DURATION:PT1H
X-Robots-Tag:noindex
X-PUBLISHED-TTL:PT1H
BEGIN:VTIMEZONE
TZID:Europe/Moscow
BEGIN:STANDARD
TZOFFSETFROM:+0300
TZOFFSETTO:+0300
TZNAME:MSK
DTSTART:20240101T000000
END:STANDARD
END:VTIMEZONE
BEGIN:VEVENT
DTSTART;TZID=Europe/Moscow:20250615T160000
DTEND;TZID=Europe/Moscow:20250615T180000
DTSTAMP:20260424T110439
CREATED:20250610T161817Z
LAST-MODIFIED:20260302T153206Z
UID:11277-1750003200-1750010400@antre.istanbul
SUMMARY:Babam Böyle Pasta Yapmayı Buradan Öğrendi
DESCRIPTION:15 Haziran Pazar günü küçük ama eğlenceli bir etkinlik yapıyoruz.\nDört baba\, dört çocuk\, mutfağa giriyor. Gözler kapalı. Tarif yok. Yardım da yok 🙂\nKazanan çifte bir paket antre.istanbul kahvesi hediye.\nAmatör olmak sorun değil\, maksat birlikte vakit geçirmek.\nAnneniz de gelip izleyebilir.\n\nKatılım ücreti: 850 TL (çift başı)\nKontenjan: 4 çift\nÖdeme için: https://www.paytr.com/link/RpwEL2Y\n\nBabanı da al gel diyelim mi?
URL:https://antre.istanbul/event/babam-boyle-pasta-yapmayi-buradan-ogrendi/
LOCATION:antre.istanbul\, Cihangir\, Kazancı Yokuşu 34A\, Beyoğlu\, Istanbul\, 34433\, Turkey
CATEGORIES:Workshop
ORGANIZER;CN="antre.istanbul":MAILTO:antre@odacreativeistanbul.com
END:VEVENT
END:VCALENDAR