BEGIN:VCALENDAR
VERSION:2.0
PRODID:-//Antre İstanbul - ECPv6.15.17.1//NONSGML v1.0//EN
CALSCALE:GREGORIAN
METHOD:PUBLISH
X-WR-CALNAME:Antre İstanbul
X-ORIGINAL-URL:https://antre.istanbul
X-WR-CALDESC:Antre İstanbul için etkinlikler
REFRESH-INTERVAL;VALUE=DURATION:PT1H
X-Robots-Tag:noindex
X-PUBLISHED-TTL:PT1H
BEGIN:VTIMEZONE
TZID:Europe/Moscow
BEGIN:STANDARD
TZOFFSETFROM:+0300
TZOFFSETTO:+0300
TZNAME:MSK
DTSTART:20240101T000000
END:STANDARD
END:VTIMEZONE
BEGIN:VEVENT
DTSTART;TZID=Europe/Moscow:20250823T160000
DTEND;TZID=Europe/Moscow:20250823T180000
DTSTAMP:20260422T151824
CREATED:20250805T073316Z
LAST-MODIFIED:20250806T141354Z
UID:11437-1755964800-1755972000@antre.istanbul
SUMMARY:bir ilişki biçimi olarak iletişim
DESCRIPTION:Girişimcilik yalnızca bir fikir bulmak değil; o fikri yaşatacak bir kültür\, bir değer sistemi ve bir topluluk inşa etmektir. Bu süreçte iletişim\, bir tanıtım aracı olmanın çok ötesine geçer: fikri anlamlandıran\, çoğaltan ve onu yaşayan bir ekosisteme dönüştüren en temel yapı taşıdır. \nBu buluşma\, iletişimi bir ilişki biçimi olarak ele alıyor. Hikâye anlatıcılığından katılımcı deneyimlere\, markaların dilinden topluluk oluşturmaya kadar birçok başlık; stratejik\, estetik ve duygusal düzeylerde yeniden düşünülüyor. \nTürkiye ve dünyadan ilham verici girişimler ve markalar üzerinden\, bir fikrin nasıl yalnızca anlatılmadığı\, birlikte yaşandığı örneklere odaklanacağız. Marka iletişiminin artık ne söylediğimiz değil\, nasıl dinlediğimiz\, nasıl alan açtığımız ve nasıl birlikte var olduğumuzla şekillendiği bir dünyada; bu konuşma\, ortak bir hikâyeye davet etmenin yollarını arıyor. \nDoğukan Güngör\nYaratıcı Stratejist | Kurucu – well ever
URL:https://antre.istanbul/event/bir-iliski-bicimi-olarak-iletisim/
LOCATION:antre.istanbul\, Cihangir\, Kazancı Yokuşu 34A\, Beyoğlu\, Istanbul\, 34433\, Turkey
CATEGORIES:Konferans
ATTACH;FMTTYPE=image/jpeg:https://antre.istanbul/wp-content/uploads/2025/08/Web-14.jpg
END:VEVENT
END:VCALENDAR