BEGIN:VCALENDAR
VERSION:2.0
PRODID:-//Antre İstanbul - ECPv6.15.17.1//NONSGML v1.0//EN
CALSCALE:GREGORIAN
METHOD:PUBLISH
X-WR-CALNAME:Antre İstanbul
X-ORIGINAL-URL:https://antre.istanbul
X-WR-CALDESC:Antre İstanbul için etkinlikler
REFRESH-INTERVAL;VALUE=DURATION:PT1H
X-Robots-Tag:noindex
X-PUBLISHED-TTL:PT1H
BEGIN:VTIMEZONE
TZID:Europe/Moscow
BEGIN:STANDARD
TZOFFSETFROM:+0300
TZOFFSETTO:+0300
TZNAME:MSK
DTSTART:20240101T000000
END:STANDARD
END:VTIMEZONE
BEGIN:VEVENT
DTSTART;TZID=Europe/Moscow:20251107T150000
DTEND;TZID=Europe/Moscow:20251107T170000
DTSTAMP:20260422T054058
CREATED:20251101T155521Z
LAST-MODIFIED:20251101T155521Z
UID:11678-1762527600-1762534800@antre.istanbul
SUMMARY:Cömert Dinleme Atölyesi
DESCRIPTION:Dinlemenin bir eylem değil\, bir dikkat hali olduğunu yeniden hatırlatan bu atölyede\, katılımcılar birlikte düşünme ve anlama üzerine çalışıyor. Gündelik iletişimde farkındalık yaratmak isteyen herkes için açık. \nDetaylar ve kayıt için; @comertdinleme
URL:https://antre.istanbul/event/comert-dinleme-atolyesi/
LOCATION:antre.istanbul\, Cihangir\, Kazancı Yokuşu 34A\, Beyoğlu\, Istanbul\, 34433\, Turkey
CATEGORIES:Workshop
END:VEVENT
END:VCALENDAR