BEGIN:VCALENDAR
VERSION:2.0
PRODID:-//Antre İstanbul - ECPv6.15.17.1//NONSGML v1.0//EN
CALSCALE:GREGORIAN
METHOD:PUBLISH
X-WR-CALNAME:Antre İstanbul
X-ORIGINAL-URL:https://antre.istanbul
X-WR-CALDESC:Antre İstanbul için etkinlikler
REFRESH-INTERVAL;VALUE=DURATION:PT1H
X-Robots-Tag:noindex
X-PUBLISHED-TTL:PT1H
BEGIN:VTIMEZONE
TZID:Europe/Moscow
BEGIN:STANDARD
TZOFFSETFROM:+0300
TZOFFSETTO:+0300
TZNAME:MSK
DTSTART:20240101T000000
END:STANDARD
END:VTIMEZONE
BEGIN:VEVENT
DTSTART;TZID=Europe/Moscow:20250531T140000
DTEND;TZID=Europe/Moscow:20250531T160000
DTSTAMP:20260424T110803
CREATED:20250508T134229Z
LAST-MODIFIED:20260302T153211Z
UID:11092-1748700000-1748707200@antre.istanbul
SUMMARY:Dirençli Kentler: İstanbul’u Afetlere Hazırlamak
DESCRIPTION:Afetleri engelleyemeyiz ama etkilerini azaltabiliriz.Peki İstanbul gibi karmaşık ve yoğun bir kent\, bu riske ne kadar hazır? \nBu söyleşide Prof. Dr. Funda Yirmibeşoğlu ile;– Afetlere karşı kent planlamasında nelere dikkat edilmeli?– Toplumsal dayanıklılık nasıl inşa edilir?– Kamusal alanlar\, ulaşım ağları ve mimarlık bu sürece nasıl katkı sunar?gibi soruların peşine düşüyoruz. \nKentle ilgili düşünen\, tasarlayan\, yaşayan herkesi bu önemli sohbete bekliyoruz. \nSaat duyurulacaktır.
URL:https://antre.istanbul/event/direncli-kentler-istanbulu-afetlere-hazirlamak/
LOCATION:antre.istanbul\, Cihangir\, Kazancı Yokuşu 34A\, Beyoğlu\, Istanbul\, 34433\, Turkey
CATEGORIES:Konferans
ATTACH;FMTTYPE=image/png:https://antre.istanbul/wp-content/uploads/2025/05/ChatGPT-Image-20-May-2025-15_54_14.png
ORGANIZER;CN="antre.istanbul":MAILTO:antre@odacreativeistanbul.com
END:VEVENT
END:VCALENDAR