BEGIN:VCALENDAR
VERSION:2.0
PRODID:-//Antre İstanbul - ECPv6.15.17.1//NONSGML v1.0//EN
CALSCALE:GREGORIAN
METHOD:PUBLISH
X-WR-CALNAME:Antre İstanbul
X-ORIGINAL-URL:https://antre.istanbul
X-WR-CALDESC:Antre İstanbul için etkinlikler
REFRESH-INTERVAL;VALUE=DURATION:PT1H
X-Robots-Tag:noindex
X-PUBLISHED-TTL:PT1H
BEGIN:VTIMEZONE
TZID:Europe/Moscow
BEGIN:STANDARD
TZOFFSETFROM:+0300
TZOFFSETTO:+0300
TZNAME:MSK
DTSTART:20240101T000000
END:STANDARD
END:VTIMEZONE
BEGIN:VEVENT
DTSTART;TZID=Europe/Moscow:20250730T183000
DTEND;TZID=Europe/Moscow:20250730T203000
DTSTAMP:20260422T183237
CREATED:20250701T133915Z
LAST-MODIFIED:20250725T144347Z
UID:11339-1753900200-1753907400@antre.istanbul
SUMMARY:etik ve yapay zeka
DESCRIPTION:Yapay zekâ yalnızca teknolojik bir devrim değil; aynı zamanda toplumsal\, felsefi ve etik bir kırılma noktası. Algoritmalar karar vermeye başladığında\, sorumluluk kimde olur? Sanal üretimlerde etik sınır nerede başlar\, nerede biter? Ve yapay zekâya ne kadar güvenebiliriz? \nEtik ve Yapay Zeka başlıklı bu buluşma\, yapay zekânın sadece ne yaptığına değil\, nasıl ve hangi değerler çerçevesinde yaptığına odaklanıyor. \nYapay zekâ destekli sanat üretimi\, mimarlık\, medya ve gündelik hayat üzerindeki etkileri tartışılırken; katılımcılarla birlikte karar alma süreçlerinde şeffaflık\, algoritmik adalet\, veri mahremiyeti\, sorumluluk ve öznellik gibi temel etik ilkeler üzerine düşünülmesi hedefleniyor. \nBu açık oturum formatındaki konferans\, teknolojinin sınırlarını sorgulamak isteyen herkes için bir düşünme alanı sunuyor.
URL:https://antre.istanbul/event/etik-ve-yapay-zeka/
LOCATION:antre.istanbul\, Cihangir\, Kazancı Yokuşu 34A\, Beyoğlu\, Istanbul\, 34433\, Turkey
CATEGORIES:Konferans
END:VEVENT
END:VCALENDAR