BEGIN:VCALENDAR
VERSION:2.0
PRODID:-//Antre İstanbul - ECPv6.15.17.1//NONSGML v1.0//EN
CALSCALE:GREGORIAN
METHOD:PUBLISH
X-WR-CALNAME:Antre İstanbul
X-ORIGINAL-URL:https://antre.istanbul
X-WR-CALDESC:Antre İstanbul için etkinlikler
REFRESH-INTERVAL;VALUE=DURATION:PT1H
X-Robots-Tag:noindex
X-PUBLISHED-TTL:PT1H
BEGIN:VTIMEZONE
TZID:Europe/Moscow
BEGIN:STANDARD
TZOFFSETFROM:+0300
TZOFFSETTO:+0300
TZNAME:MSK
DTSTART:20240101T000000
END:STANDARD
END:VTIMEZONE
BEGIN:VEVENT
DTSTART;TZID=Europe/Moscow:20251125T191500
DTEND;TZID=Europe/Moscow:20251125T211500
DTSTAMP:20260422T003310
CREATED:20251101T155954Z
LAST-MODIFIED:20251101T155954Z
UID:11685-1764098100-1764105300@antre.istanbul
SUMMARY:Film Gösterimi: L’Eclisse (1962)
DESCRIPTION:Michelangelo Antonioni’nin modernizm eleştirisini perdeye taşıyan başyapıtı L’Eclisse\, ayın kapanış etkinliğinde antre’de. Sessizlik\, yabancılaşma ve kent manzaraları eşliğinde bir sinema gecesi.
URL:https://antre.istanbul/event/film-gosterimi-leclisse-1962/
LOCATION:antre.istanbul\, Cihangir\, Kazancı Yokuşu 34A\, Beyoğlu\, Istanbul\, 34433\, Turkey
CATEGORIES:Film Gösterimi
ORGANIZER;CN="antre.istanbul":MAILTO:antre@odacreativeistanbul.com
END:VEVENT
END:VCALENDAR