BEGIN:VCALENDAR
VERSION:2.0
PRODID:-//Antre İstanbul - ECPv6.15.17.1//NONSGML v1.0//EN
CALSCALE:GREGORIAN
METHOD:PUBLISH
X-WR-CALNAME:Antre İstanbul
X-ORIGINAL-URL:https://antre.istanbul
X-WR-CALDESC:Antre İstanbul için etkinlikler
REFRESH-INTERVAL;VALUE=DURATION:PT1H
X-Robots-Tag:noindex
X-PUBLISHED-TTL:PT1H
BEGIN:VTIMEZONE
TZID:Europe/Moscow
BEGIN:STANDARD
TZOFFSETFROM:+0300
TZOFFSETTO:+0300
TZNAME:MSK
DTSTART:20240101T000000
END:STANDARD
END:VTIMEZONE
BEGIN:VEVENT
DTSTART;TZID=Europe/Moscow:20251221T160000
DTEND;TZID=Europe/Moscow:20251221T180000
DTSTAMP:20260421T200347
CREATED:20251201T102218Z
LAST-MODIFIED:20251209T155337Z
UID:11719-1766332800-1766340000@antre.istanbul
SUMMARY:Gingerbread Cookie House Atölyesi
DESCRIPTION:Yeni yıl ruhunu mutfağa taşımak isteyenler için hazırladığımız bu tatlı atölyede\, pasta ustası Serra Ergin eşliğinde kendi gingerbread cookie house’unu tasarlıyor ve dekore ediyorsun.Sıfırdan başlayan bu süreçte; hamurun birleştirilmesi\, parçaların yapıştırılması\, süsleme teknikleri ve renk kullanımı gibi küçük ama etkili detayları birlikte adım adım öğreniyoruz. \nAtölye sonunda her katılımcı\, tamamen kendi dokunuşlarıyla şekillenmiş bir gingerbread cookie house’u yanında götürüyor. Yıl sonuna yaklaşırken hem sakin hem yaratıcı bir kaçış arayanlar için keyifli\, eğlenceli ve bolca “mis gibi kokan” bir deneyim. \nNe yapıyoruz?\n\n\nGingerbread cookie house parçalarının birleştirilmesi \n\n\nRoyal icing ile süsleme teknikleri \n\n\nRenk\, doku ve kompozisyon önerileri \n\n\nTamamen sana ait bir evin hazırlanması \n\n\nKimler katılabilir?\nHer seviyeden katılımcı için uygun. Daha önce mutfak deneyimin olmasına gerek yok — sadece üretme isteğin yeterli. \nÜcret\n200 TL \nTüm malzemeler dahil.Ücretle ilgili detaylar kayıt sonrası paylaşılacaktır.
URL:https://antre.istanbul/event/gingerbread-cookie-house-atolyesi/
LOCATION:antre.istanbul\, Cihangir\, Kazancı Yokuşu 34A\, Beyoğlu\, Istanbul\, 34433\, Turkey
CATEGORIES:Workshop
ATTACH;FMTTYPE=image/jpeg:https://antre.istanbul/wp-content/uploads/2025/12/Etkinlik-Postlari-09-e1765196439274.jpg
END:VEVENT
END:VCALENDAR