BEGIN:VCALENDAR
VERSION:2.0
PRODID:-//Antre İstanbul - ECPv6.15.17.1//NONSGML v1.0//EN
CALSCALE:GREGORIAN
METHOD:PUBLISH
X-WR-CALNAME:Antre İstanbul
X-ORIGINAL-URL:https://antre.istanbul
X-WR-CALDESC:Antre İstanbul için etkinlikler
REFRESH-INTERVAL;VALUE=DURATION:PT1H
X-Robots-Tag:noindex
X-PUBLISHED-TTL:PT1H
BEGIN:VTIMEZONE
TZID:Europe/Moscow
BEGIN:STANDARD
TZOFFSETFROM:+0300
TZOFFSETTO:+0300
TZNAME:MSK
DTSTART:20240101T000000
END:STANDARD
END:VTIMEZONE
BEGIN:VEVENT
DTSTART;TZID=Europe/Moscow:20251025T160000
DTEND;TZID=Europe/Moscow:20251025T180000
DTSTAMP:20260422T015712
CREATED:20251001T131957Z
LAST-MODIFIED:20251024T153122Z
UID:11602-1761408000-1761415200@antre.istanbul
SUMMARY:İstanbul’un İzini Yakalamak
DESCRIPTION:Her köşesinde bir iz\, her duvarında bir hikâye… Mert Alaçam ile İstanbul’un görünmeyen katmanlarını birlikte okuyacağımız bu atölyede\, Beyoğlu’nda saha yürüyüşü yapacak; tipografi\, doku\, malzeme izleri\, müdahale katmanları (yamalı cepheler\, kablo hatları\, onarım izleri)\, yansımalar ve geçiş mekânları gibi ipuçlarını fotoğraflarla yakalayacağız. \nİsteyen katılımcılar\, çektikleri fotoğraflardan ya da ellerinde hâlihazırda bulunan fotoğraf ve videolardan dijital kolajlar üreterek kendi kentsel anlatılarını oluşturacak.
URL:https://antre.istanbul/event/istanbulun-izini-yakalamak/
LOCATION:antre.istanbul\, Cihangir\, Kazancı Yokuşu 34A\, Beyoğlu\, Istanbul\, 34433\, Turkey
CATEGORIES:Workshop
ATTACH;FMTTYPE=image/jpeg:https://antre.istanbul/wp-content/uploads/2025/10/Web-13.jpg
END:VEVENT
END:VCALENDAR