BEGIN:VCALENDAR
VERSION:2.0
PRODID:-//Antre İstanbul - ECPv6.15.17.1//NONSGML v1.0//EN
CALSCALE:GREGORIAN
METHOD:PUBLISH
X-WR-CALNAME:Antre İstanbul
X-ORIGINAL-URL:https://antre.istanbul
X-WR-CALDESC:Antre İstanbul için etkinlikler
REFRESH-INTERVAL;VALUE=DURATION:PT1H
X-Robots-Tag:noindex
X-PUBLISHED-TTL:PT1H
BEGIN:VTIMEZONE
TZID:Europe/Moscow
BEGIN:STANDARD
TZOFFSETFROM:+0300
TZOFFSETTO:+0300
TZNAME:MSK
DTSTART:20240101T000000
END:STANDARD
END:VTIMEZONE
BEGIN:VEVENT
DTSTART;TZID=Europe/Moscow:20251030T191500
DTEND;TZID=Europe/Moscow:20251030T211500
DTSTAMP:20260422T031315
CREATED:20251001T132423Z
LAST-MODIFIED:20251006T113811Z
UID:11611-1761851700-1761858900@antre.istanbul
SUMMARY:İstanbul’un Tarihsel Gelişimi
DESCRIPTION:İstanbul’un tarihi\, morfolojisinde gizli. Ebru Şevkin ile şehrin sokaklarından meydanlarına\, kıyılarından tepelerine uzanan mekânsal dönüşüm yolculuğunu birlikte inceliyoruz.
URL:https://antre.istanbul/event/istanbulun-tarihsel-gelisimi/
LOCATION:antre.istanbul\, Cihangir\, Kazancı Yokuşu 34A\, Beyoğlu\, Istanbul\, 34433\, Turkey
CATEGORIES:Konferans
ATTACH;FMTTYPE=image/jpeg:https://antre.istanbul/wp-content/uploads/2025/10/Revize-15-e1759750684921.jpg
ORGANIZER;CN="antre.istanbul":MAILTO:antre@odacreativeistanbul.com
END:VEVENT
END:VCALENDAR