BEGIN:VCALENDAR
VERSION:2.0
PRODID:-//Antre İstanbul - ECPv6.15.17.1//NONSGML v1.0//EN
CALSCALE:GREGORIAN
METHOD:PUBLISH
X-WR-CALNAME:Antre İstanbul
X-ORIGINAL-URL:https://antre.istanbul
X-WR-CALDESC:Antre İstanbul için etkinlikler
REFRESH-INTERVAL;VALUE=DURATION:PT1H
X-Robots-Tag:noindex
X-PUBLISHED-TTL:PT1H
BEGIN:VTIMEZONE
TZID:Europe/Moscow
BEGIN:STANDARD
TZOFFSETFROM:+0300
TZOFFSETTO:+0300
TZNAME:MSK
DTSTART:20240101T000000
END:STANDARD
END:VTIMEZONE
BEGIN:VEVENT
DTSTART;TZID=Europe/Moscow:20251223T191500
DTEND;TZID=Europe/Moscow:20251223T211500
DTSTAMP:20260421T213147
CREATED:20251201T102339Z
LAST-MODIFIED:20251222T145112Z
UID:11723-1766517300-1766524500@antre.istanbul
SUMMARY:“İzin Verirsen Bir Şey Deneyeceğim”
DESCRIPTION:Yaratıcı süreçler\, yeni fikirler ve girişimcilik üzerine ilham veren bir konuşmaya davetlisin.Ozan Akbaş\, üretme cesaretini\, deneme kültürünü ve yaratıcı projelerin arka planındaki düşünme biçimlerini samimi bir anlatımla paylaşıyor. \nBu buluşma;– Yeni fikirler üzerine sohbet etmek\,– Üretim süreçlerinin perde arkasını duymak\,– Kendi projelerin için motivasyon almak isteyen herkes için. \nEtkinliğin sonunda kısa bir soru–cevap bölümü ile katılımcıların merak ettiği konular üzerine açık bir paylaşım alanı oluşturulacak.
URL:https://antre.istanbul/event/izin-verirsen-bir-sey-deneyecegim/
LOCATION:antre.istanbul\, Cihangir\, Kazancı Yokuşu 34A\, Beyoğlu\, Istanbul\, 34433\, Turkey
CATEGORIES:Konferans
ATTACH;FMTTYPE=image/jpeg:https://antre.istanbul/wp-content/uploads/2025/12/Ozan-event-02.jpg
ORGANIZER;CN="antre.istanbul":MAILTO:antre@odacreativeistanbul.com
END:VEVENT
END:VCALENDAR