BEGIN:VCALENDAR
VERSION:2.0
PRODID:-//Antre İstanbul - ECPv6.15.17.1//NONSGML v1.0//EN
CALSCALE:GREGORIAN
METHOD:PUBLISH
X-WR-CALNAME:Antre İstanbul
X-ORIGINAL-URL:https://antre.istanbul
X-WR-CALDESC:Antre İstanbul için etkinlikler
REFRESH-INTERVAL;VALUE=DURATION:PT1H
X-Robots-Tag:noindex
X-PUBLISHED-TTL:PT1H
BEGIN:VTIMEZONE
TZID:Europe/Moscow
BEGIN:STANDARD
TZOFFSETFROM:+0300
TZOFFSETTO:+0300
TZNAME:MSK
DTSTART:20240101T000000
END:STANDARD
END:VTIMEZONE
BEGIN:VEVENT
DTSTART;TZID=Europe/Moscow:20251015T191500
DTEND;TZID=Europe/Moscow:20251015T211500
DTSTAMP:20260422T003316
CREATED:20251001T131157Z
LAST-MODIFIED:20251006T093037Z
UID:11595-1760555700-1760562900@antre.istanbul
SUMMARY:Kent ve Göç: İstanbul ve Çeperleri
DESCRIPTION:İstanbul’un büyüme hikâyesi aynı zamanda göçün hikâyesi. Kentin merkezinden çeperlerine uzanan bu dönüşümü derinlemesine konuşuyoruz.
URL:https://antre.istanbul/event/kent-ve-goc-istanbul-ve-ceperleri/
LOCATION:antre.istanbul\, Cihangir\, Kazancı Yokuşu 34A\, Beyoğlu\, Istanbul\, 34433\, Turkey
CATEGORIES:Konferans
ATTACH;FMTTYPE=image/jpeg:https://antre.istanbul/wp-content/uploads/2025/10/Web-09.jpg
ORGANIZER;CN="antre.istanbul":MAILTO:antre@odacreativeistanbul.com
END:VEVENT
END:VCALENDAR