BEGIN:VCALENDAR
VERSION:2.0
PRODID:-//Antre İstanbul - ECPv6.15.17.1//NONSGML v1.0//EN
CALSCALE:GREGORIAN
METHOD:PUBLISH
X-WR-CALNAME:Antre İstanbul
X-ORIGINAL-URL:https://antre.istanbul
X-WR-CALDESC:Antre İstanbul için etkinlikler
REFRESH-INTERVAL;VALUE=DURATION:PT1H
X-Robots-Tag:noindex
X-PUBLISHED-TTL:PT1H
BEGIN:VTIMEZONE
TZID:Europe/Moscow
BEGIN:STANDARD
TZOFFSETFROM:+0300
TZOFFSETTO:+0300
TZNAME:MSK
DTSTART:20240101T000000
END:STANDARD
END:VTIMEZONE
BEGIN:VEVENT
DTSTART;TZID=Europe/Moscow:20250809T160000
DTEND;TZID=Europe/Moscow:20250809T180000
DTSTAMP:20260422T170928
CREATED:20250805T071548Z
LAST-MODIFIED:20250806T140501Z
UID:11425-1754755200-1754762400@antre.istanbul
SUMMARY:logo re-make atölyesi
DESCRIPTION:Bu atölyede katılımcılar\, halihazırda var olan bir logoyu yeniden yorumlayarak hem tasarım dilini analiz ediyor hem de yaratıcı bir bakış geliştiriyor. \nTipografi\, renk\, form ve anlam ilişkisi üzerinden ilerleyen süreç; katılımcılara grafik tasarımda eleştirel düşünme ve yeniden üretim becerisi kazandırmayı hedefliyor. \nHer seviyeden katılımcıya açık bu oturum\, yaratıcı ifade alanını genişletmek isteyen herkes için!
URL:https://antre.istanbul/event/logo-re-make-atolyesi-2/
LOCATION:antre.istanbul\, Cihangir\, Kazancı Yokuşu 34A\, Beyoğlu\, Istanbul\, 34433\, Turkey
CATEGORIES:Workshop
ATTACH;FMTTYPE=image/jpeg:https://antre.istanbul/wp-content/uploads/2025/08/Web-09.jpg
ORGANIZER;CN="antre.istanbul":MAILTO:antre@odacreativeistanbul.com
END:VEVENT
END:VCALENDAR