BEGIN:VCALENDAR
VERSION:2.0
PRODID:-//Antre İstanbul - ECPv6.15.17.1//NONSGML v1.0//EN
CALSCALE:GREGORIAN
METHOD:PUBLISH
X-WR-CALNAME:Antre İstanbul
X-ORIGINAL-URL:https://antre.istanbul
X-WR-CALDESC:Antre İstanbul için etkinlikler
REFRESH-INTERVAL;VALUE=DURATION:PT1H
X-Robots-Tag:noindex
X-PUBLISHED-TTL:PT1H
BEGIN:VTIMEZONE
TZID:Europe/Moscow
BEGIN:STANDARD
TZOFFSETFROM:+0300
TZOFFSETTO:+0300
TZNAME:MSK
DTSTART:20250101T000000
END:STANDARD
END:VTIMEZONE
BEGIN:VEVENT
DTSTART;TZID=Europe/Moscow:20260118T160000
DTEND;TZID=Europe/Moscow:20260118T180000
DTSTAMP:20260422T040606
CREATED:20260105T172522Z
LAST-MODIFIED:20260117T154348Z
UID:11777-1768752000-1768759200@antre.istanbul
SUMMARY:Mekân Değişirse Ben Ne Yaparım?
DESCRIPTION:Bir mekân aynı kalırken\, sen değişir misin?\nantre’nin içinden seçilen küçük bir köşe\, bu kez alışıldık kullanımından kopuyor. Gözlem\, sezgi ve eskizle; mekânın bugün ne söylediğini ve başka nasıl bir ihtimale dönüşebileceğini birlikte düşünmeye başlıyoruz. \nOkumak\, çizmek ve yeniden hayal etmek isteyenler için.
URL:https://antre.istanbul/event/mekan-degisirse-ben-ne-yaparim/
LOCATION:antre.istanbul\, Cihangir\, Kazancı Yokuşu 34A\, Beyoğlu\, Istanbul\, 34433\, Turkey
CATEGORIES:Workshop
ATTACH;FMTTYPE=image/jpeg:https://antre.istanbul/wp-content/uploads/2026/01/web-11-1.jpg
ORGANIZER;CN="antre.istanbul":MAILTO:antre@odacreativeistanbul.com
END:VEVENT
END:VCALENDAR