BEGIN:VCALENDAR
VERSION:2.0
PRODID:-//Antre İstanbul - ECPv6.15.17.1//NONSGML v1.0//EN
CALSCALE:GREGORIAN
METHOD:PUBLISH
X-WR-CALNAME:Antre İstanbul
X-ORIGINAL-URL:https://antre.istanbul
X-WR-CALDESC:Antre İstanbul için etkinlikler
REFRESH-INTERVAL;VALUE=DURATION:PT1H
X-Robots-Tag:noindex
X-PUBLISHED-TTL:PT1H
BEGIN:VTIMEZONE
TZID:Europe/Moscow
BEGIN:STANDARD
TZOFFSETFROM:+0300
TZOFFSETTO:+0300
TZNAME:MSK
DTSTART:20240101T000000
END:STANDARD
END:VTIMEZONE
BEGIN:VEVENT
DTSTART;TZID=Europe/Moscow:20250827T191500
DTEND;TZID=Europe/Moscow:20250827T211500
DTSTAMP:20260422T120529
CREATED:20250805T074254Z
LAST-MODIFIED:20250807T142729Z
UID:11443-1756322100-1756329300@antre.istanbul
SUMMARY:mimarlıkta görsel iletişim
DESCRIPTION:Bir mimari fikrin yalnızca içeriği değil\, nasıl aktarıldığı da onun etkisini belirler. Bu noktada\, grafik dil ve görsel iletişim araçları\, fikirlerin kavramsal gücünü görünür ve anlaşılır kılan temel bileşenlerdir. \nBu buluşmada\, mimarlık pratiğinde görselliğin rolünü tartışıyoruz:– Bir fikrin çizim\, diyagram\, kolaj ya da görsel hikâyeleme yoluyla nasıl daha açık\, ikna edici ve güçlü bir anlatıya dönüştüğünü;– Temsil biçimlerinin\, mimari düşünceyi nasıl yönlendirdiğini;– Görsel araçların sadece sunum değil\, aynı zamanda tasarımın üretiminde aktif bir rol oynadığını birlikte keşfediyoruz. \nAmacımız\, mimarlığın yalnızca mekânsal değil\, aynı zamanda anlatımsal bir disiplin olduğunu hatırlamak. Görselleştirme teknikleri aracılığıyla fikirlerin daha geniş kitlelerle nasıl etkili biçimde paylaşılabileceğini sorgulamak.
URL:https://antre.istanbul/event/mimarlikta-gorsel-iletisim/
LOCATION:antre.istanbul\, Cihangir\, Kazancı Yokuşu 34A\, Beyoğlu\, Istanbul\, 34433\, Turkey
CATEGORIES:Konferans
ATTACH;FMTTYPE=image/jpeg:https://antre.istanbul/wp-content/uploads/2025/08/diassgram.jpg
END:VEVENT
END:VCALENDAR