BEGIN:VCALENDAR
VERSION:2.0
PRODID:-//Antre İstanbul - ECPv6.15.17.1//NONSGML v1.0//EN
CALSCALE:GREGORIAN
METHOD:PUBLISH
X-WR-CALNAME:Antre İstanbul
X-ORIGINAL-URL:https://antre.istanbul
X-WR-CALDESC:Antre İstanbul için etkinlikler
REFRESH-INTERVAL;VALUE=DURATION:PT1H
X-Robots-Tag:noindex
X-PUBLISHED-TTL:PT1H
BEGIN:VTIMEZONE
TZID:Europe/Moscow
BEGIN:STANDARD
TZOFFSETFROM:+0300
TZOFFSETTO:+0300
TZNAME:MSK
DTSTART:20240101T000000
END:STANDARD
END:VTIMEZONE
BEGIN:VEVENT
DTSTART;TZID=Europe/Moscow:20251120T191500
DTEND;TZID=Europe/Moscow:20251120T211500
DTSTAMP:20260422T031309
CREATED:20251101T160212Z
LAST-MODIFIED:20251101T160212Z
UID:11689-1763666100-1763673300@antre.istanbul
SUMMARY:Mimarlık’ta Modernizm
DESCRIPTION:Modern mimarlığın tarihsel bağlamı\, akımların kent ve birey üzerindeki etkisi\, Türkiye’deki karşılıkları… Bu konuşma\, mimarlıkta modernizmin yeniden okunması için bir davet niteliğinde.
URL:https://antre.istanbul/event/mimarlikta-modernizm/
LOCATION:antre.istanbul\, Cihangir\, Kazancı Yokuşu 34A\, Beyoğlu\, Istanbul\, 34433\, Turkey
CATEGORIES:Konferans
ORGANIZER;CN="antre.istanbul":MAILTO:antre@odacreativeistanbul.com
END:VEVENT
END:VCALENDAR