BEGIN:VCALENDAR
VERSION:2.0
PRODID:-//Antre İstanbul - ECPv6.15.17.1//NONSGML v1.0//EN
CALSCALE:GREGORIAN
METHOD:PUBLISH
X-WR-CALNAME:Antre İstanbul
X-ORIGINAL-URL:https://antre.istanbul
X-WR-CALDESC:Antre İstanbul için etkinlikler
REFRESH-INTERVAL;VALUE=DURATION:PT1H
X-Robots-Tag:noindex
X-PUBLISHED-TTL:PT1H
BEGIN:VTIMEZONE
TZID:Europe/Moscow
BEGIN:STANDARD
TZOFFSETFROM:+0300
TZOFFSETTO:+0300
TZNAME:MSK
DTSTART:20250101T000000
END:STANDARD
END:VTIMEZONE
BEGIN:VEVENT
DTSTART;TZID=Europe/Moscow:20260117T160000
DTEND;TZID=Europe/Moscow:20260117T180000
DTSTAMP:20260422T040612
CREATED:20260105T172418Z
LAST-MODIFIED:20260105T172418Z
UID:11775-1768665600-1768672800@antre.istanbul
SUMMARY:Resim Workshop
DESCRIPTION:antre.istanbul’da renklerle buluşmaya hazır mısın?\nAkrilik boyalarla tuval üzerine gerçekleşecek bu serbest çalışma atölyesi\, resme yeni başlayanlar da dâhil olmak üzere tüm seviyelere açık. Katılımcılar\, rehberli ama özgür bir üretim ortamında kendi özgün kompozisyonlarını yaratma şansı bulacak. \nKontenjan: 8 kişi\nKatılım Ücreti: 850₺ (tüm malzemeler dahil) Ödeme bilgileri kayıt sonrasında paylaşılacaktır.\nEğitmen: Sanatçı Fahrettin Eğrikanat \nAtölye boyunca temel renk bilgisi\, akrilik tekniklere kısa bir giriş ve kişisel üretimi destekleyen yönlendirmeler yer alacak. Amaç; teknik mükemmellikten ziyade\, fırçanı özgürce kullanarak kişisel ifade alanı yaratmak. \nTüm boya\, tuval ve ekipmanlar tarafımızdan sağlanmaktadır. \nKeyifli\, ilham verici ve sakin bir ortamda iki saatlik bu buluşma\, şehir hayatının ritminden biraz uzaklaşıp yaratıcılığı serbest bırakmak isteyen herkese açıktır.
URL:https://antre.istanbul/event/resim-workshop-2/
LOCATION:antre.istanbul\, Cihangir\, Kazancı Yokuşu 34A\, Beyoğlu\, Istanbul\, 34433\, Turkey
CATEGORIES:Workshop
END:VEVENT
END:VCALENDAR