BEGIN:VCALENDAR
VERSION:2.0
PRODID:-//Antre İstanbul - ECPv6.15.17.1//NONSGML v1.0//EN
CALSCALE:GREGORIAN
METHOD:PUBLISH
X-WR-CALNAME:Antre İstanbul
X-ORIGINAL-URL:https://antre.istanbul
X-WR-CALDESC:Antre İstanbul için etkinlikler
REFRESH-INTERVAL;VALUE=DURATION:PT1H
X-Robots-Tag:noindex
X-PUBLISHED-TTL:PT1H
BEGIN:VTIMEZONE
TZID:Europe/Moscow
BEGIN:STANDARD
TZOFFSETFROM:+0300
TZOFFSETTO:+0300
TZNAME:MSK
DTSTART:20240101T000000
END:STANDARD
END:VTIMEZONE
BEGIN:VEVENT
DTSTART;TZID=Europe/Moscow:20250920T160000
DTEND;TZID=Europe/Moscow:20250920T180000
DTSTAMP:20260422T080133
CREATED:20250901T162628Z
LAST-MODIFIED:20250911T081517Z
UID:11519-1758384000-1758391200@antre.istanbul
SUMMARY:sinema perdesi yazı tahtası olabilir mi?
DESCRIPTION:Cemile Zeynep Eryılmaz\, bu konuşmasında sinema perdesini yalnızca bir gösteri yüzeyi değil; politik ve tarihsel bir tartışma alanı olarak ele alıyor. Jean-Luc Godard’ın 1968-1972 yılları arasında Dziga-Vertov Grubu’yla ürettiği\, devrimci\, antikapitalist ve antisömürgeci hareketlere odaklanan filmlerden yola çıkarak sinemanın sorgulayıcı ve eğitici bir araç olarak potansiyelini tartışıyor. \nAyrıca\, Bouchra Khalili’nin müze mekânlarında gösterdiği ve Cezayir\, Fas ile Amerikan siyah hareketinin unutulan tarihine odaklanan filmleri üzerinden\, sinemanın kolektif hafıza ve direniş için nasıl bir alan sunabileceğini inceliyor. Khalili’nin Godard’dan aldığı ilham\, çağdaş sanat ve politik sinemanın kesişimine dair yeni bir bakış öneriyor.
URL:https://antre.istanbul/event/sinema-perdesi-yazi-tahtasi-olabilir-mi/
LOCATION:antre.istanbul\, Cihangir\, Kazancı Yokuşu 34A\, Beyoğlu\, Istanbul\, 34433\, Turkey
CATEGORIES:Konferans
ATTACH;FMTTYPE=image/jpeg:https://antre.istanbul/wp-content/uploads/2025/09/Event-Eylul-07.jpg
END:VEVENT
END:VCALENDAR