BEGIN:VCALENDAR
VERSION:2.0
PRODID:-//Antre İstanbul - ECPv6.15.17.1//NONSGML v1.0//EN
CALSCALE:GREGORIAN
METHOD:PUBLISH
X-WR-CALNAME:Antre İstanbul
X-ORIGINAL-URL:https://antre.istanbul
X-WR-CALDESC:Antre İstanbul için etkinlikler
REFRESH-INTERVAL;VALUE=DURATION:PT1H
X-Robots-Tag:noindex
X-PUBLISHED-TTL:PT1H
BEGIN:VTIMEZONE
TZID:Europe/Moscow
BEGIN:STANDARD
TZOFFSETFROM:+0300
TZOFFSETTO:+0300
TZNAME:MSK
DTSTART:20250101T000000
END:STANDARD
END:VTIMEZONE
BEGIN:VEVENT
DTSTART;TZID=Europe/Moscow:20260121T191500
DTEND;TZID=Europe/Moscow:20260121T211500
DTSTAMP:20260422T070542
CREATED:20260105T172716Z
LAST-MODIFIED:20260109T153108Z
UID:11781-1769022900-1769030100@antre.istanbul
SUMMARY:Sinemada Neler Değişti?
DESCRIPTION:2025\, tanıdık hikâyelerin geri döndüğü bir yıl oldu. Devam filmleri\, yeniden çevrimler ve reboot’lar üzerinden “yeni” olanı yeniden düşünmeye başladık.\nBu kısa söyleşi\, eski ve yeniyi görsel ve tematik olarak yan yana koyarak sinemada değişenle aynı kalan arasındaki farklara bakıyor. \nBir yıl özeti gibi\, ama biraz daha meraklı.
URL:https://antre.istanbul/event/sinemada-neler-degisti/
LOCATION:antre.istanbul\, Cihangir\, Kazancı Yokuşu 34A\, Beyoğlu\, Istanbul\, 34433\, Turkey
CATEGORIES:Workshop
ATTACH;FMTTYPE=image/jpeg:https://antre.istanbul/wp-content/uploads/2026/01/web-13-1.jpg
END:VEVENT
END:VCALENDAR