BEGIN:VCALENDAR
VERSION:2.0
PRODID:-//Antre İstanbul - ECPv6.15.17.1//NONSGML v1.0//EN
CALSCALE:GREGORIAN
METHOD:PUBLISH
X-WR-CALNAME:Antre İstanbul
X-ORIGINAL-URL:https://antre.istanbul
X-WR-CALDESC:Antre İstanbul için etkinlikler
REFRESH-INTERVAL;VALUE=DURATION:PT1H
X-Robots-Tag:noindex
X-PUBLISHED-TTL:PT1H
BEGIN:VTIMEZONE
TZID:Europe/Moscow
BEGIN:STANDARD
TZOFFSETFROM:+0300
TZOFFSETTO:+0300
TZNAME:MSK
DTSTART:20250101T000000
END:STANDARD
END:VTIMEZONE
BEGIN:VEVENT
DTSTART;TZID=Europe/Moscow:20260119T191500
DTEND;TZID=Europe/Moscow:20260119T211500
DTSTAMP:20260422T054119
CREATED:20260105T172611Z
LAST-MODIFIED:20260109T153200Z
UID:11779-1768850100-1768857300@antre.istanbul
SUMMARY:Sketch Night.10
DESCRIPTION:antre.istanbul’da çizim\, bir sonuçtan çok bir düşünme hâli.\nSketch Night.10’da\, hızdan çok sezgiye; doğruluktan çok sürece odaklanıyoruz. Masa etrafında toplanıyor\, konuşarak çiziyor\, çizdikçe düşünceyi açıyoruz. \nMalzeme serbest\, beklenti yok.\nSadece çizgi\, mekân ve birlikte üretme hâli.
URL:https://antre.istanbul/event/sketch-night-10/
LOCATION:antre.istanbul\, Cihangir\, Kazancı Yokuşu 34A\, Beyoğlu\, Istanbul\, 34433\, Turkey
CATEGORIES:Workshop
ATTACH;FMTTYPE=image/jpeg:https://antre.istanbul/wp-content/uploads/2026/01/web-12-1.jpg
ORGANIZER;CN="antre.istanbul":MAILTO:antre@odacreativeistanbul.com
END:VEVENT
END:VCALENDAR