BEGIN:VCALENDAR
VERSION:2.0
PRODID:-//Antre İstanbul - ECPv6.15.17.1//NONSGML v1.0//EN
CALSCALE:GREGORIAN
METHOD:PUBLISH
X-WR-CALNAME:Antre İstanbul
X-ORIGINAL-URL:https://antre.istanbul
X-WR-CALDESC:Antre İstanbul için etkinlikler
REFRESH-INTERVAL;VALUE=DURATION:PT1H
X-Robots-Tag:noindex
X-PUBLISHED-TTL:PT1H
BEGIN:VTIMEZONE
TZID:Europe/Moscow
BEGIN:STANDARD
TZOFFSETFROM:+0300
TZOFFSETTO:+0300
TZNAME:MSK
DTSTART:20240101T000000
END:STANDARD
END:VTIMEZONE
BEGIN:VEVENT
DTSTART;TZID=Europe/Moscow:20250616T160000
DTEND;TZID=Europe/Moscow:20250616T180000
DTSTAMP:20260424T123314
CREATED:20250606T162103Z
LAST-MODIFIED:20250612T125239Z
UID:11263-1750089600-1750096800@antre.istanbul
SUMMARY:sketch night.3
DESCRIPTION:Kafanı boşaltmak\, elini açmak\, biraz ilham toplamak istiyorsan doğru yerdesin.Bu gece masalar kalemlerle doluyor\, sayfalar hayal gücünle şekilleniyor.Mimar\, tasarımcı ya da sadece çizmeyi seven biri ol—fark etmez.Sketch Night herkese açık\, çizmek isteyen herkesi bekliyor.
URL:https://antre.istanbul/event/sketch-night-3/
LOCATION:antre.istanbul\, Cihangir\, Kazancı Yokuşu 34A\, Beyoğlu\, Istanbul\, 34433\, Turkey
CATEGORIES:Workshop
ATTACH;FMTTYPE=image/jpeg:https://antre.istanbul/wp-content/uploads/2025/06/WhatsApp-Gorsel-2025-06-10-saat-15.05.55_07184a88.jpg
ORGANIZER;CN="antre.istanbul":MAILTO:antre@odacreativeistanbul.com
END:VEVENT
END:VCALENDAR