BEGIN:VCALENDAR
VERSION:2.0
PRODID:-//Antre İstanbul - ECPv6.15.17.1//NONSGML v1.0//EN
CALSCALE:GREGORIAN
METHOD:PUBLISH
X-WR-CALNAME:Antre İstanbul
X-ORIGINAL-URL:https://antre.istanbul
X-WR-CALDESC:Antre İstanbul için etkinlikler
REFRESH-INTERVAL;VALUE=DURATION:PT1H
X-Robots-Tag:noindex
X-PUBLISHED-TTL:PT1H
BEGIN:VTIMEZONE
TZID:Europe/Moscow
BEGIN:STANDARD
TZOFFSETFROM:+0300
TZOFFSETTO:+0300
TZNAME:MSK
DTSTART:20240101T000000
END:STANDARD
END:VTIMEZONE
BEGIN:VEVENT
DTSTART;TZID=Europe/Moscow:20250927T160000
DTEND;TZID=Europe/Moscow:20250927T180000
DTSTAMP:20260422T030111
CREATED:20250901T163230Z
LAST-MODIFIED:20250911T081803Z
UID:11533-1758988800-1758996000@antre.istanbul
SUMMARY:sketch night.6
DESCRIPTION:Altıncı Sketch Night buluşmamız\, \nBakışlar\, işaretler ve boşluklar. Kalemle kurulan her temas bir iletişim biçimi olabilir mi? \nKâğıt\, kalem\, müzik ve kahve eşliğinde birlikte düşünüyor\, üretiyoruz. \nMalzemeni getir\, yorumunu kat. \nHer seviyeden katılımcıya açık.
URL:https://antre.istanbul/event/sketch-night-6/
LOCATION:antre.istanbul\, Cihangir\, Kazancı Yokuşu 34A\, Beyoğlu\, Istanbul\, 34433\, Turkey
CATEGORIES:Workshop
ATTACH;FMTTYPE=image/jpeg:https://antre.istanbul/wp-content/uploads/2025/09/Event-Gorselleri-Eylul-11.jpg
ORGANIZER;CN="antre.istanbul":MAILTO:antre@odacreativeistanbul.com
END:VEVENT
END:VCALENDAR