BEGIN:VCALENDAR
VERSION:2.0
PRODID:-//Antre İstanbul - ECPv6.15.17.1//NONSGML v1.0//EN
CALSCALE:GREGORIAN
METHOD:PUBLISH
X-WR-CALNAME:Antre İstanbul
X-ORIGINAL-URL:https://antre.istanbul
X-WR-CALDESC:Antre İstanbul için etkinlikler
REFRESH-INTERVAL;VALUE=DURATION:PT1H
X-Robots-Tag:noindex
X-PUBLISHED-TTL:PT1H
BEGIN:VTIMEZONE
TZID:Europe/Moscow
BEGIN:STANDARD
TZOFFSETFROM:+0300
TZOFFSETTO:+0300
TZNAME:MSK
DTSTART:20240101T000000
END:STANDARD
END:VTIMEZONE
BEGIN:VEVENT
DTSTART;TZID=Europe/Moscow:20251021T191500
DTEND;TZID=Europe/Moscow:20251021T211500
DTSTAMP:20260421T232211
CREATED:20251001T132110Z
LAST-MODIFIED:20251006T091310Z
UID:11605-1761074100-1761081300@antre.istanbul
SUMMARY:Sketch Night.7
DESCRIPTION:Kağıt\, kalem ve kentin çizgileri… Sketch Night serisinin yedincisinde İstanbul’un detaylarını çizgilerle yakalıyoruz. Yaratıcılığın ve kahvenin eşlik ettiği bu gece yine çizen elleri bir araya getiriyor.
URL:https://antre.istanbul/event/sketch-night-7/
LOCATION:antre.istanbul\, Cihangir\, Kazancı Yokuşu 34A\, Beyoğlu\, Istanbul\, 34433\, Turkey
CATEGORIES:Workshop
ATTACH;FMTTYPE=image/jpeg:https://antre.istanbul/wp-content/uploads/2025/10/Ekim-Etkinlikler-06-e1759741975723.jpg
ORGANIZER;CN="antre.istanbul":MAILTO:antre@odacreativeistanbul.com
END:VEVENT
END:VCALENDAR