BEGIN:VCALENDAR
VERSION:2.0
PRODID:-//Antre İstanbul - ECPv6.15.17.1//NONSGML v1.0//EN
CALSCALE:GREGORIAN
METHOD:PUBLISH
X-WR-CALNAME:Antre İstanbul
X-ORIGINAL-URL:https://antre.istanbul
X-WR-CALDESC:Antre İstanbul için etkinlikler
REFRESH-INTERVAL;VALUE=DURATION:PT1H
X-Robots-Tag:noindex
X-PUBLISHED-TTL:PT1H
BEGIN:VTIMEZONE
TZID:Europe/Moscow
BEGIN:STANDARD
TZOFFSETFROM:+0300
TZOFFSETTO:+0300
TZNAME:MSK
DTSTART:20240101T000000
END:STANDARD
END:VTIMEZONE
BEGIN:VEVENT
DTSTART;TZID=Europe/Moscow:20251207T160000
DTEND;TZID=Europe/Moscow:20251207T180000
DTSTAMP:20260421T230848
CREATED:20251201T101109Z
LAST-MODIFIED:20251201T101109Z
UID:11712-1765123200-1765130400@antre.istanbul
SUMMARY:sketch night.9
DESCRIPTION:Çizime gönül veren herkes için sakin\, üretken bir buluşma. Kuralsız\, notsuz\, sadece birlikte çizdiğimiz iki saatlik yaratıcı bir alan… \nİçerik:– Serbest çizim oturumu– Malzeme paylaşımı ve mini yönlendirmeler– Atölye sonunda kısa değerlendirme (isteğe bağlı) \nKimler için?Yeni başlayanlardan profesyonellere\, çizim pratiğini canlı tutmak isteyen herkes.
URL:https://antre.istanbul/event/sketch-night-9/
LOCATION:antre.istanbul\, Cihangir\, Kazancı Yokuşu 34A\, Beyoğlu\, Istanbul\, 34433\, Turkey
CATEGORIES:Workshop
ORGANIZER;CN="antre.istanbul":MAILTO:antre@odacreativeistanbul.com
END:VEVENT
END:VCALENDAR