BEGIN:VCALENDAR
VERSION:2.0
PRODID:-//Antre İstanbul - ECPv6.15.17.1//NONSGML v1.0//EN
CALSCALE:GREGORIAN
METHOD:PUBLISH
X-WR-CALNAME:Antre İstanbul
X-ORIGINAL-URL:https://antre.istanbul
X-WR-CALDESC:Antre İstanbul için etkinlikler
REFRESH-INTERVAL;VALUE=DURATION:PT1H
X-Robots-Tag:noindex
X-PUBLISHED-TTL:PT1H
BEGIN:VTIMEZONE
TZID:Europe/Moscow
BEGIN:STANDARD
TZOFFSETFROM:+0300
TZOFFSETTO:+0300
TZNAME:MSK
DTSTART:20240101T000000
END:STANDARD
END:VTIMEZONE
BEGIN:VEVENT
DTSTART;TZID=Europe/Moscow:20250824T160000
DTEND;TZID=Europe/Moscow:20250824T180000
DTSTAMP:20260422T134047
CREATED:20250805T073643Z
LAST-MODIFIED:20250806T141507Z
UID:11440-1756051200-1756058400@antre.istanbul
SUMMARY:well mini urban things workshop
DESCRIPTION:well urban things seni masa başında\, günlük malzemelerle kendi küçük pavyonunu tasarlamaya davet ediyor! \nBu atölyede karton\, pipet\, ip\, civata gibi basit ve günlük nesneleri kullanarak masaüstü ölçekte bir pavyon inşa ediyorsun. Amaç\, yaratıcı düşünmeyi tetiklemek\, mimariyi sadece büyük ölçeklerde değil\, oyun ve deneme yoluyla da düşünebilmek. \nAtölye kısa bir tanışma ve pavyon nedir sorusuna verilen ilham verici örneklerle başlıyor. Ardından herkes kendi pavyonunu üretmeye başlıyor. Süreç sonunda ise ortaya çıkan yapılar\, küçük bir paylaşım turuyla sergileniyor. \nHiçbir teknik bilgi gerekmez. Meraklı olman yeterli.
URL:https://antre.istanbul/event/well-mini-urban-things-workshop/
LOCATION:antre.istanbul\, Cihangir\, Kazancı Yokuşu 34A\, Beyoğlu\, Istanbul\, 34433\, Turkey
CATEGORIES:Workshop
ATTACH;FMTTYPE=image/png:https://antre.istanbul/wp-content/uploads/2025/08/wellurbanthings-atolye-1.png
END:VEVENT
END:VCALENDAR