BEGIN:VCALENDAR
VERSION:2.0
PRODID:-//Antre İstanbul - ECPv6.15.17.1//NONSGML v1.0//EN
CALSCALE:GREGORIAN
METHOD:PUBLISH
X-WR-CALNAME:Antre İstanbul
X-ORIGINAL-URL:https://antre.istanbul
X-WR-CALDESC:Antre İstanbul için etkinlikler
REFRESH-INTERVAL;VALUE=DURATION:PT1H
X-Robots-Tag:noindex
X-PUBLISHED-TTL:PT1H
BEGIN:VTIMEZONE
TZID:Europe/Moscow
BEGIN:STANDARD
TZOFFSETFROM:+0300
TZOFFSETTO:+0300
TZNAME:MSK
DTSTART:20250101T000000
END:STANDARD
END:VTIMEZONE
BEGIN:VEVENT
DTSTART;TZID=Europe/Moscow:20260113T191500
DTEND;TZID=Europe/Moscow:20260113T211500
DTSTAMP:20260422T001215
CREATED:20260105T171938Z
LAST-MODIFIED:20260109T153505Z
UID:11771-1768331700-1768338900@antre.istanbul
SUMMARY:Workshop: Bir Kelimenin 5 Hali
DESCRIPTION:2025\, bildiğimiz kelimelerin başka biçimlerde karşımıza çıktığı bir yıl.\nAynı kelime\, farklı formlar; benzer hisler\, kaymış anlamlar. \nBu atölye\, tek bir kelimeyi yeniden yazarak\,\nform değiştikçe anlamın nasıl dönüştüğüne bakıyor.\nYavaş\, analog ve elde. \nBir tekrar gibi\, ama dikkatli bakınca başka.
URL:https://antre.istanbul/event/workshop-bir-kelimenin-5-hali/
LOCATION:antre.istanbul\, Cihangir\, Kazancı Yokuşu 34A\, Beyoğlu\, Istanbul\, 34433\, Turkey
CATEGORIES:Workshop
ATTACH;FMTTYPE=image/jpeg:https://antre.istanbul/wp-content/uploads/2026/01/web-09-1.jpg
ORGANIZER;CN="antre.istanbul":MAILTO:antre@odacreativeistanbul.com
END:VEVENT
END:VCALENDAR