BEGIN:VCALENDAR
VERSION:2.0
PRODID:-//Antre İstanbul - ECPv6.15.17.1//NONSGML v1.0//EN
CALSCALE:GREGORIAN
METHOD:PUBLISH
X-WR-CALNAME:Antre İstanbul
X-ORIGINAL-URL:https://antre.istanbul
X-WR-CALDESC:Antre İstanbul için etkinlikler
REFRESH-INTERVAL;VALUE=DURATION:PT1H
X-Robots-Tag:noindex
X-PUBLISHED-TTL:PT1H
BEGIN:VTIMEZONE
TZID:Europe/Moscow
BEGIN:STANDARD
TZOFFSETFROM:+0300
TZOFFSETTO:+0300
TZNAME:MSK
DTSTART:20250101T000000
END:STANDARD
END:VTIMEZONE
BEGIN:VEVENT
DTSTART;TZID=Europe/Moscow:20260421T191500
DTEND;TZID=Europe/Moscow:20260421T211500
DTSTAMP:20260421T125426
CREATED:20260401T152911Z
LAST-MODIFIED:20260401T152930Z
UID:11912-1776798900-1776806100@antre.istanbul
SUMMARY:Sketch Night.13
DESCRIPTION:“İster profesyonel bir çizer ol istersen de sadece karalama yapmayı sev; kağıdını\, kalemini kap!” \nYaratıcılığını serbest bırakmak\, zihnini boşaltmak ve ilham dolu bir akşam geçirmek isteyenler için Sketch Night serimiz 13. buluşmasıyla devam ediyor! \nGecede Bizi Neler Bekliyor?\nÖzgür Yaratıcılık: Sınır yok\, kural veya “doğru çizim” baskısı yok. Sadece içinden geldiği gibi karalama ve üretme özgürlüğü var. \nOrtak İlham: Farklı tarzlara sahip insanlarla bir arada\, aynı masayı paylaşarak çizecek ve birbirimizden ilham alacağız. \nRahatlatıcı Atmosfer: Gündelik hayatın stresini geride bırakıp\, keyifli bir ortamda hem sosyalleşecek hem de rahatlayacağız. \nEtkinlik Detayları\nTarih: 21 Nisan Salı \nSaat: 19:15 – 21:15 \nNe Getirmeliyim?: Sadece en sevdiğin çizim defterini/kağıdını ve kalemlerini kap gel! \nBu samimi atmosferin tadını çıkarmak\, beraber çizip rahatlamak için aşağıdaki butondan kaydını tamamlayabilirsin.
URL:https://antre.istanbul/event/11912/
LOCATION:antre.istanbul\, Cihangir\, Kazancı Yokuşu 34A\, Beyoğlu\, Istanbul\, 34433\, Turkey
CATEGORIES:Workshop
ORGANIZER;CN="antre.istanbul":MAILTO:antre@odacreativeistanbul.com
END:VEVENT
END:VCALENDAR