BEGIN:VCALENDAR
VERSION:2.0
PRODID:-//Antre İstanbul - ECPv6.15.17.1//NONSGML v1.0//EN
CALSCALE:GREGORIAN
METHOD:PUBLISH
X-WR-CALNAME:Antre İstanbul
X-ORIGINAL-URL:https://antre.istanbul
X-WR-CALDESC:Antre İstanbul için etkinlikler
REFRESH-INTERVAL;VALUE=DURATION:PT1H
X-Robots-Tag:noindex
X-PUBLISHED-TTL:PT1H
BEGIN:VTIMEZONE
TZID:Europe/Moscow
BEGIN:STANDARD
TZOFFSETFROM:+0300
TZOFFSETTO:+0300
TZNAME:MSK
DTSTART:20250101T000000
END:STANDARD
END:VTIMEZONE
BEGIN:VEVENT
DTSTART;TZID=Europe/Moscow:20260421T191500
DTEND;TZID=Europe/Moscow:20260421T211500
DTSTAMP:20260420T064654
CREATED:20260401T152911Z
LAST-MODIFIED:20260401T152930Z
UID:11912-1776798900-1776806100@antre.istanbul
SUMMARY:Sketch Night.13
DESCRIPTION:“İster profesyonel bir çizer ol istersen de sadece karalama yapmayı sev; kağıdını\, kalemini kap!” \nYaratıcılığını serbest bırakmak\, zihnini boşaltmak ve ilham dolu bir akşam geçirmek isteyenler için Sketch Night serimiz 13. buluşmasıyla devam ediyor! \nGecede Bizi Neler Bekliyor?\nÖzgür Yaratıcılık: Sınır yok\, kural veya “doğru çizim” baskısı yok. Sadece içinden geldiği gibi karalama ve üretme özgürlüğü var. \nOrtak İlham: Farklı tarzlara sahip insanlarla bir arada\, aynı masayı paylaşarak çizecek ve birbirimizden ilham alacağız. \nRahatlatıcı Atmosfer: Gündelik hayatın stresini geride bırakıp\, keyifli bir ortamda hem sosyalleşecek hem de rahatlayacağız. \nEtkinlik Detayları\nTarih: 21 Nisan Salı \nSaat: 19:15 – 21:15 \nNe Getirmeliyim?: Sadece en sevdiğin çizim defterini/kağıdını ve kalemlerini kap gel! \nBu samimi atmosferin tadını çıkarmak\, beraber çizip rahatlamak için aşağıdaki butondan kaydını tamamlayabilirsin.
URL:https://antre.istanbul/event/11912/
LOCATION:antre.istanbul\, Cihangir\, Kazancı Yokuşu 34A\, Beyoğlu\, Istanbul\, 34433\, Turkey
CATEGORIES:Workshop
ORGANIZER;CN="antre.istanbul":MAILTO:antre@odacreativeistanbul.com
END:VEVENT
BEGIN:VEVENT
DTSTART;TZID=Europe/Moscow:20260423T160000
DTEND;TZID=Europe/Moscow:20260423T180000
DTSTAMP:20260420T064654
CREATED:20260401T153203Z
LAST-MODIFIED:20260401T153203Z
UID:11915-1776960000-1776967200@antre.istanbul
SUMMARY:Çocuklar İçin Figür Seramik Boyama Atölyesi
DESCRIPTION:“Küçük eller\, dev hayaller!” \nÇocuklar için özel olarak hazırladığımız seramik boyama atölyemizde miniklerle renklerin dünyasına dalıyoruz! Çocukların hem doyasıya eğleneceği hem de sınırsız yaratıcılıklarını seramik figürlere dökeceği bu renkli atölyeye davetlisiniz. \n\nEtkinlik Detayları\nEğitmen: Fahrettin Eğrikanat \nTarih: 23 Nisan Perşembe \nSaat: 16:00 – 18:00 \nÜcret: 850 TL (Kişi başı) \nÖdeme: Ödeme adımları ve detayları\, kayıt işleminiz tamamlandıktan sonra sizinle ayrıca paylaşılacaktır. \n\nÇocuğunuzun bu eğlenceli ve sanat dolu deneyime ortak olması için kontenjan dolmadan aşağıdaki butondan kaydınızı oluşturabilirsiniz.
URL:https://antre.istanbul/event/cocuklar-icin-figur-seramik-boyama-atolyesi/
LOCATION:antre.istanbul\, Cihangir\, Kazancı Yokuşu 34A\, Beyoğlu\, Istanbul\, 34433\, Turkey
CATEGORIES:Workshop
END:VEVENT
BEGIN:VEVENT
DTSTART;TZID=Europe/Moscow:20260425T130000
DTEND;TZID=Europe/Moscow:20260425T140000
DTSTAMP:20260420T064654
CREATED:20260411T125928Z
LAST-MODIFIED:20260416T152452Z
UID:11962-1777122000-1777125600@antre.istanbul
SUMMARY:odac.talks Mimarlık ve Kültür
DESCRIPTION:Mimarlık ve kültürün birbirini nasıl şekillendirdiğini konuşacağımız odac.talks serimizin bu oturumunda ilham verici bir sohbete davetlisin! \nYapılı çevrenin kültürel kimliğe yansımalarını ve toplumsal hafızadaki yerini ele alacağımız bu etkinlikte\, antre.istanbul‘un taze kahveleri eşliğinde keyifli bir pazar günü geçirmek için seni de aramızda görmek istiyoruz. \nKonuk: Cemile Zeynep Eryılmaz \nEtkinliğimiz ücretsizdir ancak mekan kapasitemiz gereği kontenjanımız sınırlıdır. Yerini ayırtmak için aşağıdaki kayıt formunu doldurabilirsin.
URL:https://antre.istanbul/event/odac-talks-mimarlik-ve-kultur/
LOCATION:antre.istanbul\, Cihangir\, Kazancı Yokuşu 34A\, Beyoğlu\, Istanbul\, 34433\, Turkey
CATEGORIES:Podcast
ATTACH;FMTTYPE=image/jpeg:https://antre.istanbul/wp-content/uploads/2026/04/odac-talks-04-e1776353081318.jpg
END:VEVENT
BEGIN:VEVENT
DTSTART;TZID=Europe/Moscow:20260425T150000
DTEND;TZID=Europe/Moscow:20260425T160000
DTSTAMP:20260420T064654
CREATED:20260411T130113Z
LAST-MODIFIED:20260416T152553Z
UID:11964-1777129200-1777132800@antre.istanbul
SUMMARY:odac.talks Mekan ve Kahve
DESCRIPTION:Mekan tasarımı ve kahve kültürünün ayrılmaz bağını konuşacağımız odac.talks serimizin bu oturumunda ilham verici bir sohbete davetlisin! \nKahve deneyiminin mekan kurgusuna etkilerini ve sosyal alanların nasıl dönüştüğünü ele alacağımız bu etkinlikte\, antre.istanbul‘un taze kahveleri eşliğinde keyifli bir pazar günü geçirmek için seni de aramızda görmek istiyoruz. \nKonuk: Kerem Yüksel \nEtkinliğimiz ücretsizdir ancak mekan kapasitemiz gereği kontenjanımız sınırlıdır. Yerini ayırtmak için aşağıdaki kayıt formunu doldurabilirsin.
URL:https://antre.istanbul/event/odac-talks-mekan-ve-kahve/
LOCATION:antre.istanbul\, Cihangir\, Kazancı Yokuşu 34A\, Beyoğlu\, Istanbul\, 34433\, Turkey
CATEGORIES:Podcast
ATTACH;FMTTYPE=image/jpeg:https://antre.istanbul/wp-content/uploads/2026/04/odac-talks-05-e1776353146629.jpg
END:VEVENT
BEGIN:VEVENT
DTSTART;TZID=Europe/Moscow:20260425T170000
DTEND;TZID=Europe/Moscow:20260425T180000
DTSTAMP:20260420T064654
CREATED:20260411T130307Z
LAST-MODIFIED:20260416T154646Z
UID:11966-1777136400-1777140000@antre.istanbul
SUMMARY:odac.talks Mimarlık ve Sinema
DESCRIPTION:Mimarlık ve sinemanın görsel dünyalarındaki kesişim noktalarını konuşacağımız odac.talks serimizin bu oturumunda ilham verici bir sohbete davetlisin! \nFilmlerdeki mekan kurgusunu\, atmosfer yaratımını ve mimarinin hikaye anlatımındaki rolünü ele alacağımız bu etkinlikte\, antre.istanbul‘un taze kahveleri eşliğinde keyifli bir pazar günü geçirmek için seni de aramızda görmek istiyoruz. \nKonuk: Emre Eminoğlu \nEtkinliğimiz ücretsizdir ancak mekan kapasitemiz gereği kontenjanımız sınırlıdır. Yerini ayırtmak için aşağıdaki kayıt formunu doldurabilirsin.
URL:https://antre.istanbul/event/odac-talks-mimarlik-ve-sinema/
LOCATION:antre.istanbul\, Cihangir\, Kazancı Yokuşu 34A\, Beyoğlu\, Istanbul\, 34433\, Turkey
CATEGORIES:Podcast
ATTACH;FMTTYPE=image/jpeg:https://antre.istanbul/wp-content/uploads/2026/04/odac-talks-06-e1776354359178.jpg
END:VEVENT
BEGIN:VEVENT
DTSTART;TZID=Europe/Moscow:20260426T130000
DTEND;TZID=Europe/Moscow:20260426T140000
DTSTAMP:20260420T064654
CREATED:20260411T112502Z
LAST-MODIFIED:20260416T154644Z
UID:11954-1777208400-1777212000@antre.istanbul
SUMMARY:odac.talks: Mimarlık ve Görsel İletişim
DESCRIPTION:Mimarlık ve görsel dünyanın kesişim noktalarını konuşacağımız odac.talks serimizin bu oturumunda ilham verici bir sohbete davetlisin! \nMekanı nasıl algıladığımızdan görsel iletişimin tasarımdaki gücüne kadar birçok konuyu ele alacağımız bu etkinlikte\, antre.istanbul‘un taze kahveleri eşliğinde keyifli bir pazar günü geçirmek için seni de aramızda görmek istiyoruz. \nKonuk: dükkan.works Aybike Kocabaş – Berkehan Cesur \nEtkinliğimiz ücretsizdir ancak mekan kapasitemiz gereği kontenjanımız sınırlıdır. Yerini ayırtmak için aşağıdaki kayıt formunu doldurabilirsin.
URL:https://antre.istanbul/event/odac-talks-mimarlik-ve-gorsel-iletisim/
LOCATION:antre.istanbul\, Cihangir\, Kazancı Yokuşu 34A\, Beyoğlu\, Istanbul\, 34433\, Turkey
CATEGORIES:Podcast
ATTACH;FMTTYPE=image/jpeg:https://antre.istanbul/wp-content/uploads/2026/04/odac-talks-07-e1776354376392.jpg
END:VEVENT
BEGIN:VEVENT
DTSTART;TZID=Europe/Moscow:20260426T150000
DTEND;TZID=Europe/Moscow:20260426T160000
DTSTAMP:20260420T064654
CREATED:20260411T112754Z
LAST-MODIFIED:20260416T154706Z
UID:11958-1777215600-1777219200@antre.istanbul
SUMMARY:odac.talks: Kent ve Spor
DESCRIPTION:Şehrin dinamikleri\, kent belleği ve spor kültürünün birbirini nasıl beslediğini konuşacağımız odac.talks serimizin bu oturumunda ilham verici bir sohbete davetlisin! \nKentin ritmini sporu merkeze alarak yeniden okuyacağımız bu etkinlikte\, antre.istanbul‘un taze kahveleri eşliğinde keyifli bir pazar günü geçirmek için seni de aramızda görmek istiyoruz. \nKonuk: Pınar Mumcu \nEtkinliğimiz ücretsizdir ancak mekan kapasitemiz gereği kontenjanımız sınırlıdır. Yerini ayırtmak için aşağıdaki kayıt formunu doldurabilirsin.
URL:https://antre.istanbul/event/odac-talks-kent-ve-spor/
LOCATION:antre.istanbul\, Cihangir\, Kazancı Yokuşu 34A\, Beyoğlu\, Istanbul\, 34433\, Turkey
CATEGORIES:Podcast
ATTACH;FMTTYPE=image/jpeg:https://antre.istanbul/wp-content/uploads/2026/04/odac-talks-08-e1776354407285.jpg
END:VEVENT
BEGIN:VEVENT
DTSTART;TZID=Europe/Moscow:20260426T170000
DTEND;TZID=Europe/Moscow:20260426T180000
DTSTAMP:20260420T064654
CREATED:20260411T112935Z
LAST-MODIFIED:20260416T154709Z
UID:11960-1777222800-1777226400@antre.istanbul
SUMMARY:odac.talks Mimarlık ve Marka
DESCRIPTION:Mimari yaklaşımın marka kimliğiyle nasıl bütünleştiğini ve fiziksel mekanların marka hikayesine etkisini konuşacağımız odac.talks serimizin bu oturumunda ilham verici bir sohbete davetlisin! \nTasarımla marka arasındaki güçlü bağı ele alacağımız bu etkinlikte\, antre.istanbul‘un taze kahveleri eşliğinde keyifli bir pazar günü geçirmek için seni de aramızda görmek istiyoruz. \nKonuk:Doğu Güngör \nEtkinliğimiz ücretsizdir ancak mekan kapasitemiz gereği kontenjanımız sınırlıdır. Yerini ayırtmak için aşağıdaki kayıt formunu doldurabilirsin.
URL:https://antre.istanbul/event/odac-talks-mimarlik-ve-marka/
LOCATION:antre.istanbul\, Cihangir\, Kazancı Yokuşu 34A\, Beyoğlu\, Istanbul\, 34433\, Turkey
CATEGORIES:Podcast
ATTACH;FMTTYPE=image/jpeg:https://antre.istanbul/wp-content/uploads/2026/04/odac-talks-09-e1776354421232.jpg
END:VEVENT
BEGIN:VEVENT
DTSTART;TZID=Europe/Moscow:20260428T183000
DTEND;TZID=Europe/Moscow:20260428T203000
DTSTAMP:20260420T064654
CREATED:20260401T145148Z
LAST-MODIFIED:20260401T145148Z
UID:11889-1777401000-1777408200@antre.istanbul
SUMMARY:Gece Meydanı: Kentsel Tasarım Workshopu
DESCRIPTION:“Şehirde gün biter\, meydan ıssızlaşır. Peki ya olmasaydı?” \nGece Meydanı\, mimarlık öğrencilerini\, genç tasarımcıları ve kente dair söyleyecek sözü olan herkesi bir araya getiren interaktif bir akşam workshopu. Elimizde sadece birkaç kalem ve fikirler var – geri kalanını birlikte çözüyoruz. \n\nNeler Yapacağız?\nYeniden Hayal Ediyoruz: 90 dakika boyunca terk edilmiş bir kent mekanını akşam saatleri için yeniden kurgulayacağız. \nBirlikte Üretiyoruz: Gruplar halinde çalışacak\, çizecek ve tartışacağız. \nİlhamı Paylaşıyoruz: Atölye bitince içeceklerimizi alıp birbirimizin ortaya çıkardığı işlere bakarak sohbeti derinleştireceğiz. \n\nKimler Katılabilir?\nAtölyeye katılmak için tasarım bilgisi şart değil. Merak yeterli. Şehri farklı bir saatte\, farklı bir gözle yeniden düşünmek isteyen herkesi bekliyoruz. \n\nYerinizi ayırmak için aşağıdaki formu doldurmanız yeterli. Görüşmek üzere!
URL:https://antre.istanbul/event/gece-meydani-kentsel-tasarim-workshopu/
LOCATION:antre.istanbul\, Cihangir\, Kazancı Yokuşu 34A\, Beyoğlu\, Istanbul\, 34433\, Turkey
CATEGORIES:Workshop
END:VEVENT
BEGIN:VEVENT
DTSTART;TZID=Europe/Moscow:20260430T183000
DTEND;TZID=Europe/Moscow:20260430T203000
DTSTAMP:20260420T064654
CREATED:20260401T145503Z
LAST-MODIFIED:20260401T145503Z
UID:11891-1777573800-1777581000@antre.istanbul
SUMMARY:"15 Metrekarede Hayat" (Tiny House Tasarımı) Workshop
DESCRIPTION:“Sadece kağıt\, kalem ve hayal gücümüzle sınırları zorluyoruz!” \nYeni iç mimarlık workshop’umuz “15 Metrekarede Hayat” ile bir dijital göçebe için en estetik ve işlevsel Tiny House’u sıfırdan tasarlamaya hazır mısınız? \n\nAtölyede Sizi Neler Bekliyor?\nAkıllı Çözümler: Sadece 15 metrekarelik bir alanda; gündüz masaya dönüşen yataklar\, zemine gizlenen dolaplar ve çok amaçlı mekan kurguları yaratacağız. \nİnteraktif Tasarım Oyunu: Bu sıradan bir çizim atölyesi değil! 90 dakika boyunca aniden ortaya çıkacak “sürpriz” müşteri krizleriyle başa çıkarak pratik ve yaratıcı düşünme becerilerimizi test edeceğiz. \nSıfırdan Üretim: Dijital bir göçebenin tüm ihtiyaçlarını karşılayacak o kusursuz mekanı adım adım birlikte kurgulayacağız. \n\nBu eğlenceli ve sınırları zorlayan tasarım oyununda sen de yerini al! Kaydını tamamlamak için aşağıdaki butona tıklaman yeterli.
URL:https://antre.istanbul/event/15-metrekarede-hayat-tiny-house-tasarimi-workshop/
LOCATION:antre.istanbul\, Cihangir\, Kazancı Yokuşu 34A\, Beyoğlu\, Istanbul\, 34433\, Turkey
CATEGORIES:Workshop
END:VEVENT
END:VCALENDAR