BEGIN:VCALENDAR
VERSION:2.0
PRODID:-//Antre İstanbul - ECPv6.15.17.1//NONSGML v1.0//EN
CALSCALE:GREGORIAN
METHOD:PUBLISH
X-ORIGINAL-URL:https://antre.istanbul
X-WR-CALDESC:Antre İstanbul için etkinlikler
REFRESH-INTERVAL;VALUE=DURATION:PT1H
X-Robots-Tag:noindex
X-PUBLISHED-TTL:PT1H
BEGIN:VTIMEZONE
TZID:Europe/Moscow
BEGIN:STANDARD
TZOFFSETFROM:+0300
TZOFFSETTO:+0300
TZNAME:MSK
DTSTART:20240101T000000
END:STANDARD
END:VTIMEZONE
BEGIN:VEVENT
DTSTART;TZID=Europe/Moscow:20251018T150000
DTEND;TZID=Europe/Moscow:20251018T170000
DTSTAMP:20260421T220206
CREATED:20251002T104915Z
LAST-MODIFIED:20251011T121054Z
UID:11614-1760799600-1760806800@antre.istanbul
SUMMARY:eski beyoğlu parti dresscode: vintage
DESCRIPTION:Beyoğlu’nun geçmişten gelen büyüsünü antre.istanbul’da yeniden yaşıyoruz. 18 Ekim Cumartesi günü\, şehrin hafızasına kazınmış ritimlerle geçmişe yolculuğa çıkıyoruz. \nBeyoğlu’nun eski enerjisini bugüne taşıyoruz. Bu sadece bir parti değil\, geçmişin izleriyle bugünün dinamizmini buluşturan özel bir deneyim.
URL:https://antre.istanbul/event/eski-beyoglu-parti-dresscode-vintage/
LOCATION:antre.istanbul\, Cihangir\, Kazancı Yokuşu 34A\, Beyoğlu\, Istanbul\, 34433\, Turkey
CATEGORIES:Eğlence
ATTACH;FMTTYPE=image/jpeg:https://antre.istanbul/wp-content/uploads/2025/10/Web-11.jpg
ORGANIZER;CN="antre.istanbul":MAILTO:antre@odacreativeistanbul.com
END:VEVENT
END:VCALENDAR