BEGIN:VCALENDAR
VERSION:2.0
PRODID:-//Antre İstanbul - ECPv6.15.17.1//NONSGML v1.0//EN
CALSCALE:GREGORIAN
METHOD:PUBLISH
X-WR-CALNAME:Antre İstanbul
X-ORIGINAL-URL:https://antre.istanbul
X-WR-CALDESC:Antre İstanbul için etkinlikler
REFRESH-INTERVAL;VALUE=DURATION:PT1H
X-Robots-Tag:noindex
X-PUBLISHED-TTL:PT1H
BEGIN:VTIMEZONE
TZID:Europe/Moscow
BEGIN:STANDARD
TZOFFSETFROM:+0300
TZOFFSETTO:+0300
TZNAME:MSK
DTSTART:20240101T000000
END:STANDARD
END:VTIMEZONE
BEGIN:VEVENT
DTSTART;TZID=Europe/Moscow:20250812T191500
DTEND;TZID=Europe/Moscow:20250812T211500
DTSTAMP:20260422T141843
CREATED:20250805T071844Z
LAST-MODIFIED:20250806T150223Z
UID:11427-1755026100-1755033300@antre.istanbul
SUMMARY:ekümenopolis: ucu olmayan şehir
DESCRIPTION:Kent\, kimin için var? \nİstanbul’un kontrolsüz büyümesi\, kentsel dönüşüm politikaları ve toplumsal adaletsizlikler üzerine çarpıcı bir belgesel: Ekümenopolis. \nİlham verici olduğu kadar sarsıcı bu film\, neoliberal kentleşme politikalarının gündelik yaşama etkilerini gözler önüne seriyor. \nGösterim sonrası kısa bir sohbetle birlikte izlediklerimizi birlikte tartışıyoruz. \nKatılım herkese açık. Yerler sınırlı\, kayıt olmayı unutma!
URL:https://antre.istanbul/event/ekumenopolis-ucu-olayan-sehir/
LOCATION:antre.istanbul\, Cihangir\, Kazancı Yokuşu 34A\, Beyoğlu\, Istanbul\, 34433\, Turkey
CATEGORIES:Film Gösterimi
ATTACH;FMTTYPE=image/jpeg:https://antre.istanbul/wp-content/uploads/2025/08/Web-10.jpg
ORGANIZER;CN="antre.istanbul":MAILTO:antre@odacreativeistanbul.com
END:VEVENT
END:VCALENDAR