BEGIN:VCALENDAR
VERSION:2.0
PRODID:-//Antre İstanbul - ECPv6.15.17.1//NONSGML v1.0//EN
CALSCALE:GREGORIAN
METHOD:PUBLISH
X-WR-CALNAME:Antre İstanbul
X-ORIGINAL-URL:https://antre.istanbul
X-WR-CALDESC:Antre İstanbul için etkinlikler
REFRESH-INTERVAL;VALUE=DURATION:PT1H
X-Robots-Tag:noindex
X-PUBLISHED-TTL:PT1H
BEGIN:VTIMEZONE
TZID:Europe/Moscow
BEGIN:STANDARD
TZOFFSETFROM:+0300
TZOFFSETTO:+0300
TZNAME:MSK
DTSTART:20240101T000000
END:STANDARD
END:VTIMEZONE
BEGIN:VEVENT
DTSTART;TZID=Europe/Moscow:20250417T193000
DTEND;TZID=Europe/Moscow:20250417T220000
DTSTAMP:20260424T124154
CREATED:20250409T125936Z
LAST-MODIFIED:20260302T153136Z
UID:10887-1744918200-1744927200@antre.istanbul
SUMMARY:"21 Gram” Film Gösterimi + Söyleşi
DESCRIPTION:Alejandro González Iñárritu’nun kült filmi 21 Gram’ı birlikte izliyor\, ardından görsel dili\, tematik katmanları ve karakterlerin iç yolculukları üzerine birlikte düşünüyoruz.
URL:https://antre.istanbul/event/21-gram-film-gosterimi-soylesi/
LOCATION:antre.istanbul\, Cihangir\, Kazancı Yokuşu 34A\, Beyoğlu\, Istanbul\, 34433\, Turkey
CATEGORIES:Film Gösterimi
ATTACH;FMTTYPE=image/jpeg:https://antre.istanbul/wp-content/uploads/2025/04/17-Nisan-Film-Son-hali-01-e1744721727353.jpg
ORGANIZER;CN="antre.istanbul":MAILTO:antre@odacreativeistanbul.com
END:VEVENT
END:VCALENDAR